BEGIN:VCALENDAR
VERSION:2.0
PRODID:icalendar-ruby
CALSCALE:GREGORIAN
METHOD:PUBLISH
BEGIN:VEVENT
DTSTAMP:20260419T174320Z
UID:7d7ee4cd-35f0-45fa-885b-98835a110c2e
DTSTART:20260520T173000
DTEND:20260520T193000
LOCATION:Campus Großhadern Hörsaal 7
SUMMARY:Wissenschaftliches Symposium anlässlich des 50-jährigen Jubiläu
 ms der Wilhelm Sander-Stiftung
END:VEVENT
END:VCALENDAR
