BEGIN:VCALENDAR
VERSION:2.0
PRODID:icalendar-ruby
CALSCALE:GREGORIAN
METHOD:PUBLISH
BEGIN:VEVENT
DTSTAMP:20260420T000227Z
UID:aa67b5ec-e739-444b-b5da-7969619371c0
DTSTART:20260421T180200
DTEND:20260421T203000
LOCATION:St. Vinzenz Haus 
SUMMARY:Herzinsuffizienz im Dialog
END:VEVENT
END:VCALENDAR
